BEGIN:VCALENDAR
VERSION:2.0
PRODID:-//ChamberMaster//Event Calendar 2.0//EN
METHOD:PUBLISH
X-PUBLISHED-TTL:P3D
REFRESH-INTERVAL:P3D
CALSCALE:GREGORIAN
BEGIN:VEVENT
DTSTART:20200416T210000Z
DTEND:20200416T230000Z
X-MICROSOFT-CDO-ALLDAYEVENT:FALSE
SUMMARY:BINGO Happy Hour
DESCRIPTION:Join us for a complimentary networking event!  Grab a drink and join us for a fun game of BINGO Happy Hour\, ZOOM style!  Have to play for your chance to win.  Register for a Bingo card which will be emailed to you the day before with the meeting link.
X-ALT-DESC;FMTTYPE=text/html:Join us for a complimentary networking event!&nbsp\; Grab a drink and join us for a fun game of BINGO Happy Hour\, ZOOM style!&nbsp\; Have to play for your chance to win.&nbsp\; Register for a Bingo card which will be emailed to you the day before with the meeting link.
LOCATION:Zoom Meeting. Link sent out the day before.
UID:e.3272.1386
SEQUENCE:3
DTSTAMP:20260421T031035Z
URL:http://bsedwks.chambermaster.com/events/details/bingo-happy-hour-1386
END:VEVENT

END:VCALENDAR
