BEGIN:VCALENDAR
VERSION:2.0
PRODID:-//ChamberMaster//Event Calendar 2.0//EN
METHOD:PUBLISH
X-PUBLISHED-TTL:P3D
REFRESH-INTERVAL:P3D
CALSCALE:GREGORIAN
BEGIN:VEVENT
DTSTART:20200914T173000Z
DTEND:20200914T233000Z
X-MICROSOFT-CDO-ALLDAYEVENT:FALSE
SUMMARY:Blood Drive
DESCRIPTION:BONNER SPRINGS COMMUNITY BLOOD DRIVE\n\nGet a free t-shirt!\n\nMonday\, September 14th\n\n12:30p to 6:30p\n\n\n\nAppointment are ENCOURAGED\; walk-in donors welcome if capacity permits\n\nTo Make an appointment click: https://donate.savealifenow.org/donor/schedules/drive_schedule/72643
X-ALT-DESC;FMTTYPE=text/html:<strong><u><span style="color:#1F497D\;"><span style="font-family:calibri\,sans-serif\;"><span style="font-size:16.0pt\;">BONNER SPRINGS COMMUNITY </span></span></span></u></strong><strong><u><span style="font-family:calibri\,sans-serif\;"><span style="font-size:16.0pt\;">BLOOD DRIVE</span></span></u></strong><br />\n<strong><span style="color:#1F497D\;"><span style="font-family:calibri\,sans-serif\;"><span style="font-size:16.0pt\;">Get a free t-shirt!</span></span></span></strong><br />\n<strong><span style="color:red\;"><span style="font-size:14.0pt\;">Monday\, September 14th</span></span></strong><br />\n<strong><span style="color:red\;"><span style="font-size:14.0pt\;">12:30p to 6:30p</span></span></strong><br />\n<br />\n<span style="color:#1F497D\;"><span style="font-size:14.0pt\;">Appointment are ENCOURAGED\; walk-in donors welcome if capacity permits</span></span><br />\n<span style="font-size:14.0pt\;">To Make an appointment click: <span style="color:#1F497D\;"><a href="https://donate.savealifenow.org/donor/schedules/drive_schedule/72643">https://donate.savealifenow.org/donor/schedules/drive_schedule/72643</a></span></span>
LOCATION:First Christian Church 148 N. Nettleton- located the corner of Insley and Nettleton Park and entrance in the back of the building
UID:e.3272.1395
SEQUENCE:3
DTSTAMP:20260419T162021Z
URL:http://bsedwks.chambermaster.com/events/details/blood-drive-1395
END:VEVENT

END:VCALENDAR
