BEGIN:VCALENDAR
VERSION:2.0
PRODID:-//ChamberMaster//Event Calendar 2.0//EN
METHOD:PUBLISH
X-PUBLISHED-TTL:P3D
REFRESH-INTERVAL:P3D
CALSCALE:GREGORIAN
BEGIN:VEVENT
DTSTART:20200521T170000Z
DTEND:20200521T180000Z
X-MICROSOFT-CDO-ALLDAYEVENT:FALSE
SUMMARY:Chamber of Commerce Info Session
DESCRIPTION:This event is free to participate in for our members and will provide valuable information related specifically to the reopening plan in Wyandotte County. It will take place Thursday\, May 21 beginning at 12:00 p.m. This will be a virtual and call-in only session and will last about an hour. The Public Health Department will provide a brief presentation outlining current conditions as well as what to expect in the short-term. Following that\, we ask that you provide us your questions so we can ensure our concerns are addressed. Please note that due to time restrictions\, not all questions may be answered\, but we will do our best. Please submit your questions via email to jen@bsedwchamber.org no later than Tuesday\, May 19. Chamber staff will act as a facilitator at the event asking our member's questions.
X-ALT-DESC;FMTTYPE=text/html:<em style="color: rgb(51\, 51\, 51)\; font-family: sans-serif\, Arial\, Verdana\, &quot\;Trebuchet MS&quot\;\; font-size: 13px\;">This event is free to participate in for our members and will provide valuable information related specifically to the reopening plan in Wyandotte County. It will take place Thursday\, May 21 beginning at 12:00 p.m. This will be a virtual and call-in only session and will last about an hour. The Public Health Department will provide a brief presentation outlining current conditions as well as what to expect in the short-term. Following that\, we ask that you provide us your questions so we can ensure our concerns are addressed. Please note that due to time restrictions\, not all questions may be answered\, but we will do our best. Please submit your questions via email to&nbsp\;<a href="mailto:jen@bsedwchamber.org" style="color: rgb(7\, 130\, 193)\;">jen@bsedwchamber.org</a>&nbsp\;no later than Tuesday\, May 19. Chamber staff will act as a facilitator at the event asking our member&rsquo\;s questions.</em>
LOCATION:Please join my meeting from your computer\, tablet or smartphone. https://global.gotomeeting.com/join/952814093 ---------CLICK HERE TO DOWNLOAD THE SOFTWARE AND JOIN THE MEETING ON 5/21 You can also dial in using your phone. United States: +1 (646) 749-3122 and enter access code 952-814-093 when prompted New to GoToMeeting? Get the app now and be ready when your first meeting starts: https://global.gotomeeting.com/install/952814093
UID:e.3272.1387
SEQUENCE:3
DTSTAMP:20260421T165729Z
URL:http://bsedwks.chambermaster.com/events/details/chamber-of-commerce-info-session-1387
END:VEVENT

END:VCALENDAR
