BEGIN:VCALENDAR
VERSION:2.0
PRODID:-//ChamberMaster//Event Calendar 2.0//EN
METHOD:PUBLISH
X-PUBLISHED-TTL:P3D
REFRESH-INTERVAL:P3D
CALSCALE:GREGORIAN
BEGIN:VEVENT
DTSTART:20200520T200000Z
DTEND:20200520T210000Z
X-MICROSOFT-CDO-ALLDAYEVENT:FALSE
SUMMARY:Coping with COVID19 Zoom
DESCRIPTION:Topic\nCoping with COVID 19 - Jamie Wehmeyer\n\n\nDescription\n\nTaking Care of Ourselves During Challenging Times\n\nCOVID-19 is a community trauma being experienced by all of us in one form or another. For all of us it is vital that we maintain our resilience in order to be present as we care for those around us. This training will identify types of trauma and connect these traumas to the COVID-19 pandemic. We will identify what trauma responses look like and discuss trauma responses we or those around us may be experiencing. We will also discuss ways to maintain our resilience and practice self-care during this challenging time.\n\n\n\nObjectives:\n\n1. UNDERSTAND THE TYPES OF TRAUMA AND HOW THEY RELATE TO COVID-19.\n\n2. IDENTIFY TRAUMA RESPONSES RELATED TO COVID-19.\n\n3. IDENTIFY WAYS TO PRACTICE SELF CARE AND STAY RESILIENT.\n\n\n\nOutline:\n\nA. What Is Trauma?\n\n1. Define trauma\n\n2. Types of Trauma\n\na. Private Trauma\n\nb. Public Trauma\n\nc. Community Trauma\n\n3. Trauma Responses\n\na. Flight\, Fight or Freeze\n\nb. Responses in Adults and Youth\n\nB. Resilience\n\n1. Define resilience\n\n2. Self care skills\n\n3. Pillars of Resilience
X-ALT-DESC;FMTTYPE=text/html:<div class="form-group horizontal" style="box-sizing: border-box\; margin-bottom: 24px\; margin-left: 20px\; color: rgb(35\, 35\, 51)\; font-family: Lato\, Helvetica\, Arial\; font-size: 14px\; background-color: rgb(255\, 255\, 255)\;"><label class="control-label" style="box-sizing: border-box\; display: inline-block\; margin-bottom: 5px\; font-weight: 600\; float: left\; width: 80px\;">Topic</label>\n<div class="controls" style="box-sizing: border-box\; margin-left: 100px\;"><span style="box-sizing: border-box\; font-weight: 600\;">Coping with COVID 19 - Jamie Wehmeyer</span></div>\n</div>\n\n<div class="form-group horizontal" style="box-sizing: border-box\; margin-bottom: 24px\; margin-left: 20px\; color: rgb(35\, 35\, 51)\; font-family: Lato\, Helvetica\, Arial\; font-size: 14px\; background-color: rgb(255\, 255\, 255)\;"><label class="control-label" style="box-sizing: border-box\; display: inline-block\; margin-bottom: 5px\; font-weight: 600\; float: left\; width: 80px\;">Description</label>\n\n<div class="controls" style="box-sizing: border-box\; margin-left: 100px\;">Taking Care of Ourselves During Challenging Times<br style="box-sizing: border-box\;" />\nCOVID-19 is a community trauma being experienced by all of us in one form or another. For all of us it is vital that we maintain our resilience in order to be present as we care for those around us. This training will identify types of trauma and connect these traumas to the COVID-19 pandemic. We will identify what trauma responses look like and discuss trauma responses we or those around us may be experiencing. We will also discuss ways to maintain our resilience and practice self-care during this challenging time.<br style="box-sizing: border-box\;" />\n<br style="box-sizing: border-box\;" />\nObjectives:<br style="box-sizing: border-box\;" />\n1. UNDERSTAND THE TYPES OF TRAUMA AND HOW THEY RELATE TO COVID-19.<br style="box-sizing: border-box\;" />\n2. IDENTIFY TRAUMA RESPONSES RELATED TO COVID-19.<br style="box-sizing: border-box\;" />\n3. IDENTIFY WAYS TO PRACTICE SELF CARE AND STAY RESILIENT.<br style="box-sizing: border-box\;" />\n<br style="box-sizing: border-box\;" />\nOutline:<br style="box-sizing: border-box\;" />\nA. What Is Trauma?<br style="box-sizing: border-box\;" />\n1. Define trauma<br style="box-sizing: border-box\;" />\n2. Types of Trauma<br style="box-sizing: border-box\;" />\na. Private Trauma<br style="box-sizing: border-box\;" />\nb. Public Trauma<br style="box-sizing: border-box\;" />\nc. Community Trauma<br style="box-sizing: border-box\;" />\n3. Trauma Responses<br style="box-sizing: border-box\;" />\na. Flight\, Fight or Freeze<br style="box-sizing: border-box\;" />\nb. Responses in Adults and Youth<br style="box-sizing: border-box\;" />\nB. Resilience<br style="box-sizing: border-box\;" />\n1. Define resilience<br style="box-sizing: border-box\;" />\n2. Self care skills<br style="box-sizing: border-box\;" />\n3. Pillars of Resilience</div>\n</div>\n
LOCATION:Zoom Meeting Click HERE to register
UID:e.3272.1390
SEQUENCE:3
DTSTAMP:20260421T013803Z
URL:http://bsedwks.chambermaster.com/events/details/coping-with-covid19-zoom-1390
END:VEVENT

END:VCALENDAR
