BEGIN:VCALENDAR
VERSION:2.0
PRODID:-//ChamberMaster//Event Calendar 2.0//EN
METHOD:PUBLISH
X-PUBLISHED-TTL:P3D
REFRESH-INTERVAL:P3D
CALSCALE:GREGORIAN
BEGIN:VEVENT
DTSTART:20200206T173000Z
DTEND:20200206T190000Z
X-MICROSOFT-CDO-ALLDAYEVENT:FALSE
SUMMARY:Monthly Luncheon
DESCRIPTION:Say HELLO to the real information super highway!\n\nWhat if our roads were smarter?  What if we could turn our roads into a true digital network--connecting drivers to the internet\, supporting driver-less vehicle technology and providing true connectivity between smart cars and tomorrow's smart cities?  What does that mean for businesses and commerce?  \n\nCome find out from Miguel Jaramillo\, Principal and Director of Business Development of Integrated Roadways\, Kansas City's very own Smart Pavement company transforming North America's roadways into sensor\, data\, and connectivity rich corridors for next-generation mobility.  \n\n\n\nWhat is Smart Pavement?\n\nhttps://youtu.be/5eP24tN2zm4
X-ALT-DESC;FMTTYPE=text/html:<p>Say HELLO to the real information super highway!</p>\n\n<p>What if our roads were smarter?&nbsp\; What if we could turn our roads into a true digital network--connecting drivers to the internet\, supporting driver-less vehicle technology and providing true connectivity between smart cars and tomorrow&#39\;s smart cities?&nbsp\; What does that mean for businesses and commerce?&nbsp\;&nbsp\;</p>\n\n<p>Come find out from Miguel Jaramillo\, Principal and Director of Business Development of Integrated Roadways\, Kansas City&#39\;s very own Smart Pavement company transforming North America&#39\;s roadways into sensor\, data\, and connectivity rich corridors for next-generation mobility.&nbsp\;&nbsp\;<br />\n<br />\nWhat is Smart Pavement?<br />\n<a href="https://youtu.be/5eP24tN2zm4" target="_blank">https://youtu.be/5eP24tN2zm4</a><br />\n<br />\n<br />\n<br />\n&nbsp\;</p>\n
LOCATION:Harrington Event Center 218 Oak Street Bonner Springs\, KS 66012 (Just north of Alden Harrington Funeral Home)
UID:e.3272.219
SEQUENCE:3
DTSTAMP:20260421T165729Z
URL:http://bsedwks.chambermaster.com/events/details/monthly-luncheon-02-06-2020-219
END:VEVENT

END:VCALENDAR
