BEGIN:VCALENDAR
VERSION:2.0
PRODID:-//ChamberMaster//Event Calendar 2.0//EN
METHOD:PUBLISH
X-PUBLISHED-TTL:P3D
REFRESH-INTERVAL:P3D
CALSCALE:GREGORIAN
BEGIN:VEVENT
DTSTART:20191003T163000Z
DTEND:20191003T180000Z
X-MICROSOFT-CDO-ALLDAYEVENT:FALSE
SUMMARY:Monthly Luncheon
DESCRIPTION:Monthly networking\, educational\, and/or entertaining luncheon.  \n\nCome meet Chante Keller with KC SourceLink\; whcih helps aspiring startups and established businesses find the right business resources to start\, scale\, or accelerate.
X-ALT-DESC;FMTTYPE=text/html:<p>Monthly networking\, educational\, and/or entertaining luncheon.&nbsp\;&nbsp\;</p>\n\n<p>Come meet Chante Keller with KC SourceLink\; whcih helps aspiring startups and established businesses find the right business resources to start\, scale\, or accelerate.</p>\n
LOCATION:Bonner Springs YMCA 2251 S 138th Street Bonner Springs\, KS 66012
UID:e.3272.215
SEQUENCE:3
DTSTAMP:20260424T073717Z
URL:http://bsedwks.chambermaster.com/events/details/monthly-luncheon-10-03-2019-215
END:VEVENT

END:VCALENDAR
