BEGIN:VCALENDAR
VERSION:2.0
PRODID:-//ChamberMaster//Event Calendar 2.0//EN
METHOD:PUBLISH
X-PUBLISHED-TTL:P3D
REFRESH-INTERVAL:P3D
CALSCALE:GREGORIAN
BEGIN:VEVENT
DTSTART:20201105T173000Z
DTEND:20201105T183000Z
X-MICROSOFT-CDO-ALLDAYEVENT:FALSE
SUMMARY:Monthly Luncheon
DESCRIPTION:Join us as we learn about opportunities for both job seekers and job employers!\n\n\n\nThis month we will be joined by Workforce Partnership\, a group who committed to building workforce development system that meets the needs of both job seekers and employers in the KC area.
X-ALT-DESC;FMTTYPE=text/html:Join us as we learn about opportunities for both job seekers and job employers!<br />\n<br />\nThis month we will be joined by Workforce Partnership\, a group who committed to building workforce development system that meets the needs of both job seekers and employers in the KC area.<br />\n&nbsp\;
LOCATION:Please join my meeting from your computer\, tablet or smartphone. https://global.gotomeeting.com/join/609069821 You can also dial in using your phone. United States: +1 (872) 240-3212 Access Code: 609-069-821
UID:e.3272.228
SEQUENCE:3
DTSTAMP:20260421T130418Z
URL:http://bsedwks.chambermaster.com/events/details/monthly-luncheon-11-05-2020-228
END:VEVENT

END:VCALENDAR
